BEGIN:VCALENDAR
VERSION:2.0
PRODID:-//BKF Trainer 24 - ECPv5.2.0//NONSGML v1.0//EN
CALSCALE:GREGORIAN
METHOD:PUBLISH
X-WR-CALNAME:BKF Trainer 24
X-ORIGINAL-URL:https://bkf-24.de
X-WR-CALDESC:Veranstaltungen fÃ¼r BKF Trainer 24
BEGIN:VTIMEZONE
TZID:UTC
BEGIN:STANDARD
TZOFFSETFROM:+0000
TZOFFSETTO:+0000
TZNAME:UTC
DTSTART:20200101T000000
END:STANDARD
END:VTIMEZONE
BEGIN:VEVENT
DTSTART;TZID=UTC:20201112T080000
DTEND;TZID=UTC:20201114T170000
DTSTAMP:20260419T125715
CREATED:20200927T102816Z
LAST-MODIFIED:20200927T102816Z
UID:1415-1605168000-1605373200@bkf-24.de
SUMMARY:Sachkunde UVV-PrÃ¼fung von KrÃ¤nen\, Hebezeugen und Anschlagmitteln
DESCRIPTION:Wir laden zu einem 2\,5 tÃ¤gigen Seminar zur Erlangung der Sachkunde fÃ¼r die UVV-PrÃ¼fung von KrÃ¤nen\, Hebezeugen und Anschlagmitteln ein. \nTeilnehmerkreis: \nMitarbeiter aus Produktion\, Handel\, Bau\, Lager- und Logistik\, Stahlhandel- und Verarbeitung\, auch gerne FÃ¼hrungskrÃ¤fte. Personen welche sich als UVV-PrÃ¼fer selbststÃ¤ndig machen wollen. \nIhr Nutzen: \nDurch die Teilnahme erhalten Sie die BefÃ¤higung KrÃ¤ne\, Hebezeuge und Anschlagmittel der jÃ¤hrlichen PrÃ¼fung zu unterziehen. \nDies schafft Rechtssicherheit fÃ¼r den Unternehmer; Arbeitssicherheit fÃ¼r die Mitarbeiter. \nVermeidung von UnfÃ¤llen\, Kosten und RegreÃŸforderungen von Versicherungen\, Berufsgenossenschaften und GeschÃ¤digten. \nVermeidung von Strafen aus Unternehmerhaftung. \nKosteneinsparpotential durch VerfÃ¼gbarkeit des PrÃ¼fers. \nInhalte der Schulung: \nRechtsgrundlagen (DGUV\, BetrSichVO\, ArbSchG\, BGB und andere) \nTechnische Grundlagen und Definitionen \nPrÃ¼fung von KrÃ¤nen\, Ermittlung der Restnutzungsdauer\, Vorgehensweisen \nPrÃ¼fung von Hebezeugen \nPrÃ¼fung von Lastaufnahmemittel\, Tragmitteln und Anschlagmitteln \nDokumentation und PrÃ¼fbuch; DurchfÃ¼hrung von ZwischenprÃ¼fungen \nAusfÃ¼hrlicher Praxisteil \nAm Ende des Seimares wird eine kurze schriftliche PrÃ¼fung durchgefÃ¼hrt; wir setzen gute Deutschkenntnisse\, technisches VerstÃ¤ndnis und Berufspraxis im Umgang mit KrÃ¤nen (Kranschein) voraus. \nKosten pro Teilnehmer: 1.020\,00 â‚¬\, zuzÃ¼glich ges. MwSt.\, inklusive Lehrmaterial und PrÃ¼fung\, inklusive rechtssichere Teilnahmebescheinigung. Anmeldung gerne Ã¼ber unser Anmeldeformular. Dauer 2\,5 Tage\, samstags bis 12.00 h. \n 
URL:https://bkf-24.de/event/sachkunde-uvv-pruefung-von-kraenen-hebezeugen-und-anschlagmitteln/
LOCATION:BKF â€“ Trainer 24\, Egerten 3\, Talheim\, 74388\, Deutschland
END:VEVENT
END:VCALENDAR